BEGIN:VCALENDAR
VERSION:2.0
PRODID:-//eventon.com NONSGML v1.0//EN
BEGIN:VEVENT
UID:69ebe7ced6a6d
DTSTAMP:20260424T175942
DTSTART:20210501T180000Z
DTEND:20210502T035000Z
LOCATION:Elk Country Visitor Center 
SUMMARY:Track Identification
DESCRIPTION: We may not always see wildlife roaming around\,  but there are many ways to tell that an animal has been in the area. One of those ways is by looking at the tracks that they leave behind! Learn how to identify common animal tracks in PA and test your skills[..]
END:VEVENT
END:VCALENDAR