BEGIN:VCALENDAR
VERSION:2.0
PRODID:-//eventon.com NONSGML v1.0//EN
BEGIN:VEVENT
UID:69e74e833d63a
DTSTAMP:20260421T061635
DTSTART:20221119T180000Z
DTEND:20221120T035000Z
LOCATION:Elk Country Visitor Center 
SUMMARY:Saturday November 19th\,  2pm Turkey Talk
DESCRIPTION: Thanksgiving is just around the bend and with it fall turkey season! Come learn about the unique behaviors and preferences of the wild turkey and all the neat sounds they make!
END:VEVENT
END:VCALENDAR