BEGIN:VCALENDAR
VERSION:2.0
PRODID:-//eventon.com NONSGML v1.0//EN
BEGIN:VEVENT
UID:69e7482c4da95
DTSTAMP:20260421T054932
DTSTART:20230827T180000Z
DTEND:20230828T035000Z
LOCATION:Elk Country Visitor Center 
SUMMARY:Sunday\,  August 27th\,  2pm Chronic Wasting Disease
DESCRIPTION: Have you ever heard of Chronic Wasting Disease\,  commonly referred to as CWD? CWD is an always lethal disease that is easily spread throughout the Cervidae family(deer). Come learn exactly what CWD is\,  how its spread\,  and all the agencies involved to help fight this aggressive contagion. Join Caleb Rieder\, [..]
END:VEVENT
END:VCALENDAR