BEGIN:VCALENDAR
VERSION:2.0
PRODID:-//eventon.com NONSGML v1.0//EN
BEGIN:VEVENT
UID:69e5e8a37985d
DTSTAMP:20260420T044939
DTSTART:20240623T180000Z
DTEND:20240624T035000Z
LOCATION:Elk Country Visitor Center 
SUMMARY:Sunday\,  June 23rd\,  2pm Mothing Around
DESCRIPTION: Stay up late and explore the butterflies of the night\,  Moths! Let’s learn about moth anatomy\,  life cycle\,  and fun adaptations. We will go into depth identifying around 20 PA moths and their caterpillars. Plus explain how you can go Mothing\,  attract and view moths\,  at home! Come and explore[..]
END:VEVENT
END:VCALENDAR