BEGIN:VCALENDAR
VERSION:2.0
PRODID:-//eventon.com NONSGML v1.0//EN
BEGIN:VEVENT
UID:69e7334e291d3
DTSTAMP:20260421T042030
DTSTART:20241222T160000Z
DTEND:20241223T035000Z
LOCATION:Elk Country Visitor Center 
SUMMARY:Winter Birding & Pine Cone Bird Feeders
DESCRIPTION: Birding can be a fun activity for the whole family to enjoy! It can also be a fun hobby to do alone! Winter birding is exactly what it sounds like\,  observing the birds that endure the winter with us instead of migrating further south. Come join our Con Ed staff[..]
END:VEVENT
END:VCALENDAR