BEGIN:VCALENDAR
VERSION:2.0
PRODID:-//eventon.com NONSGML v1.0//EN
BEGIN:VEVENT
UID:69eae41fe0479
DTSTAMP:20260423T233143
DTSTART:20260425T040000Z
DTEND:20260426T035900Z
LOCATION:The Penn Stater Hotel & Conference Center  215 Innovation Blvd\,  State College\,  PA 16803
SUMMARY:Happy Valley Conservation Banquet
DESCRIPTION: Click here for Banquet Letter Click here for Banquet Application Click here for Online Registration
END:VEVENT
END:VCALENDAR