BEGIN:VCALENDAR
VERSION:2.0
PRODID:-//eventon.com NONSGML v1.0//EN
BEGIN:VEVENT
UID:69ebe60a1e493
DTSTAMP:20260424T175210
DTSTART:20251221T180000Z
DTEND:20251222T035000Z
LOCATION:Elk Country Visitor Center 
SUMMARY:Wildlife Track Identification
DESCRIPTION: “Woah! What animal made that footprint??” Walking the forests in Elk Country\,  you can come across all kinds of wildlife tracks and it can be difficult to identify the critter that made them. Come join our Con Ed staff as we dive into the world of Wildlife tracking. We will[..]
END:VEVENT
END:VCALENDAR