BEGIN:VCALENDAR
VERSION:2.0
PRODID:-//eventon.com NONSGML v1.0//EN
BEGIN:VEVENT
UID:69e734814c5a9
DTSTAMP:20260421T042537
DTSTART:20201031T180000Z
DTEND:20201101T035000Z
LOCATION:Elk Country Visitor Center 
SUMMARY:PA Bats
DESCRIPTION: Did you know? There are 9 bat species in PA! Learn about the different species\,  where they live\,  and their favorite foods and habits!
END:VEVENT
END:VCALENDAR