BEGIN:VCALENDAR
VERSION:2.0
PRODID:-//eventon.com NONSGML v1.0//EN
BEGIN:VEVENT
UID:69e733302b44d
DTSTAMP:20260421T042000
DTSTART:20210213T180000Z
DTEND:20210214T035000Z
LOCATION:Elk Country Visitor Center 
SUMMARY:PA Hibernators
DESCRIPTION: Hibernation is an important process that some animals need to survive the winter. Learn about hibernation and what animals in Pennsylvania are true hibernators- there are only a few and they may surprise you!
END:VEVENT
END:VCALENDAR